BEGIN:VCALENDAR
VERSION:2.0
PRODID:-//Schule am Niederrhein - ECPv6.15.20//NONSGML v1.0//EN
CALSCALE:GREGORIAN
METHOD:PUBLISH
X-WR-CALNAME:Schule am Niederrhein
X-ORIGINAL-URL:https://schule-am-niederrhein.de
X-WR-CALDESC:Veranstaltungen für Schule am Niederrhein
REFRESH-INTERVAL;VALUE=DURATION:PT1H
X-Robots-Tag:noindex
X-PUBLISHED-TTL:PT1H
BEGIN:VTIMEZONE
TZID:Europe/Berlin
BEGIN:DAYLIGHT
TZOFFSETFROM:+0100
TZOFFSETTO:+0200
TZNAME:CEST
DTSTART:20220327T010000
END:DAYLIGHT
BEGIN:STANDARD
TZOFFSETFROM:+0200
TZOFFSETTO:+0100
TZNAME:CET
DTSTART:20221030T010000
END:STANDARD
BEGIN:DAYLIGHT
TZOFFSETFROM:+0100
TZOFFSETTO:+0200
TZNAME:CEST
DTSTART:20230326T010000
END:DAYLIGHT
BEGIN:STANDARD
TZOFFSETFROM:+0200
TZOFFSETTO:+0100
TZNAME:CET
DTSTART:20231029T010000
END:STANDARD
BEGIN:DAYLIGHT
TZOFFSETFROM:+0100
TZOFFSETTO:+0200
TZNAME:CEST
DTSTART:20240331T010000
END:DAYLIGHT
BEGIN:STANDARD
TZOFFSETFROM:+0200
TZOFFSETTO:+0100
TZNAME:CET
DTSTART:20241027T010000
END:STANDARD
END:VTIMEZONE
BEGIN:VEVENT
DTSTART;VALUE=DATE:20231030
DTEND;VALUE=DATE:20231118
DTSTAMP:20260425T015732
CREATED:20230815T184939Z
LAST-MODIFIED:20230815T184939Z
UID:791-1698624000-1700265599@schule-am-niederrhein.de
SUMMARY:Praktikum der Oberstufe
DESCRIPTION:
URL:https://schule-am-niederrhein.de/event/praktikum-der-oberstufe/
END:VEVENT
BEGIN:VEVENT
DTSTART;VALUE=DATE:20231124
DTEND;VALUE=DATE:20231125
DTSTAMP:20260425T015732
CREATED:20230815T185126Z
LAST-MODIFIED:20230815T185126Z
UID:793-1700784000-1700870399@schule-am-niederrhein.de
SUMMARY:Weihnachtsmarkt
DESCRIPTION:
URL:https://schule-am-niederrhein.de/event/weihnachtsmarkt/
END:VEVENT
BEGIN:VEVENT
DTSTART;VALUE=DATE:20231130
DTEND;VALUE=DATE:20231201
DTSTAMP:20260425T015732
CREATED:20230815T185215Z
LAST-MODIFIED:20230815T185215Z
UID:795-1701302400-1701388799@schule-am-niederrhein.de
SUMMARY:Pädagogischer Tag (unterrichtsfrei)
DESCRIPTION:
URL:https://schule-am-niederrhein.de/event/paedagogischer-tag-unterrichtsfrei/
END:VEVENT
END:VCALENDAR