BEGIN:VCALENDAR
VERSION:2.0
PRODID:-//Schule am Niederrhein - ECPv6.15.20//NONSGML v1.0//EN
CALSCALE:GREGORIAN
METHOD:PUBLISH
X-ORIGINAL-URL:https://schule-am-niederrhein.de
X-WR-CALDESC:Veranstaltungen für Schule am Niederrhein
REFRESH-INTERVAL;VALUE=DURATION:PT1H
X-Robots-Tag:noindex
X-PUBLISHED-TTL:PT1H
BEGIN:VTIMEZONE
TZID:Europe/Berlin
BEGIN:DAYLIGHT
TZOFFSETFROM:+0100
TZOFFSETTO:+0200
TZNAME:CEST
DTSTART:20220327T010000
END:DAYLIGHT
BEGIN:STANDARD
TZOFFSETFROM:+0200
TZOFFSETTO:+0100
TZNAME:CET
DTSTART:20221030T010000
END:STANDARD
BEGIN:DAYLIGHT
TZOFFSETFROM:+0100
TZOFFSETTO:+0200
TZNAME:CEST
DTSTART:20230326T010000
END:DAYLIGHT
BEGIN:STANDARD
TZOFFSETFROM:+0200
TZOFFSETTO:+0100
TZNAME:CET
DTSTART:20231029T010000
END:STANDARD
BEGIN:DAYLIGHT
TZOFFSETFROM:+0100
TZOFFSETTO:+0200
TZNAME:CEST
DTSTART:20240331T010000
END:DAYLIGHT
BEGIN:STANDARD
TZOFFSETFROM:+0200
TZOFFSETTO:+0100
TZNAME:CET
DTSTART:20241027T010000
END:STANDARD
BEGIN:DAYLIGHT
TZOFFSETFROM:+0100
TZOFFSETTO:+0200
TZNAME:CEST
DTSTART:20250330T010000
END:DAYLIGHT
BEGIN:STANDARD
TZOFFSETFROM:+0200
TZOFFSETTO:+0100
TZNAME:CET
DTSTART:20251026T010000
END:STANDARD
END:VTIMEZONE
BEGIN:VEVENT
DTSTART;VALUE=DATE:20231214
DTEND;VALUE=DATE:20231215
DTSTAMP:20260425T000430
CREATED:20231113T100451Z
LAST-MODIFIED:20231113T100451Z
UID:863-1702512000-1702598399@schule-am-niederrhein.de
SUMMARY:Pädagogischer Tag (unterrichtsfrei)
DESCRIPTION:An diesem Tag findet eine ganztägige Lehrerfortbildung statt. Aus diesem Grund ist an diesem Tag unterrichtsfrei. Bitte melden Sie Betreuungsbedarfe für OGS-Kinder direkt in der OGS an.
URL:https://schule-am-niederrhein.de/event/paedagogischer-tag-unterrichtsfrei-3/
END:VEVENT
BEGIN:VEVENT
DTSTART;VALUE=DATE:20231220
DTEND;VALUE=DATE:20231221
DTSTAMP:20260425T000430
CREATED:20231113T100640Z
LAST-MODIFIED:20231113T100640Z
UID:865-1703030400-1703116799@schule-am-niederrhein.de
SUMMARY:Letzter Schultag vor den Weihnachtsferien
DESCRIPTION:
URL:https://schule-am-niederrhein.de/event/letzter-schultag-vor-den-weihnachtsferien/
END:VEVENT
BEGIN:VEVENT
DTSTART;VALUE=DATE:20231221
DTEND;VALUE=DATE:20240106
DTSTAMP:20260425T000430
CREATED:20230815T185356Z
LAST-MODIFIED:20230815T185356Z
UID:797-1703116800-1704499199@schule-am-niederrhein.de
SUMMARY:Weihnachtsferien 2023/24
DESCRIPTION:
URL:https://schule-am-niederrhein.de/event/weihnachtsferien-2023-24/
END:VEVENT
END:VCALENDAR