BEGIN:VCALENDAR
VERSION:2.0
PRODID:-//Schule am Niederrhein - ECPv6.15.20//NONSGML v1.0//EN
CALSCALE:GREGORIAN
METHOD:PUBLISH
X-WR-CALNAME:Schule am Niederrhein
X-ORIGINAL-URL:https://schule-am-niederrhein.de
X-WR-CALDESC:Veranstaltungen für Schule am Niederrhein
REFRESH-INTERVAL;VALUE=DURATION:PT1H
X-Robots-Tag:noindex
X-PUBLISHED-TTL:PT1H
BEGIN:VTIMEZONE
TZID:Europe/Berlin
BEGIN:DAYLIGHT
TZOFFSETFROM:+0100
TZOFFSETTO:+0200
TZNAME:CEST
DTSTART:20230326T010000
END:DAYLIGHT
BEGIN:STANDARD
TZOFFSETFROM:+0200
TZOFFSETTO:+0100
TZNAME:CET
DTSTART:20231029T010000
END:STANDARD
BEGIN:DAYLIGHT
TZOFFSETFROM:+0100
TZOFFSETTO:+0200
TZNAME:CEST
DTSTART:20240331T010000
END:DAYLIGHT
BEGIN:STANDARD
TZOFFSETFROM:+0200
TZOFFSETTO:+0100
TZNAME:CET
DTSTART:20241027T010000
END:STANDARD
BEGIN:DAYLIGHT
TZOFFSETFROM:+0100
TZOFFSETTO:+0200
TZNAME:CEST
DTSTART:20250330T010000
END:DAYLIGHT
BEGIN:STANDARD
TZOFFSETFROM:+0200
TZOFFSETTO:+0100
TZNAME:CET
DTSTART:20251026T010000
END:STANDARD
END:VTIMEZONE
BEGIN:VEVENT
DTSTART;VALUE=DATE:20240212
DTEND;VALUE=DATE:20240213
DTSTAMP:20260424T205506
CREATED:20230815T185531Z
LAST-MODIFIED:20230815T185531Z
UID:801-1707696000-1707782399@schule-am-niederrhein.de
SUMMARY:Rosenmontag (schulfrei)
DESCRIPTION:
URL:https://schule-am-niederrhein.de/event/rosenmontag-schulfrei-2/
END:VEVENT
BEGIN:VEVENT
DTSTART;VALUE=DATE:20240213
DTEND;VALUE=DATE:20240214
DTSTAMP:20260424T205506
CREATED:20230815T185612Z
LAST-MODIFIED:20230815T185612Z
UID:803-1707782400-1707868799@schule-am-niederrhein.de
SUMMARY:Beweglicher Ferientag
DESCRIPTION:
URL:https://schule-am-niederrhein.de/event/beweglicher-ferientag-2/
END:VEVENT
BEGIN:VEVENT
DTSTART;VALUE=DATE:20240222
DTEND;VALUE=DATE:20240223
DTSTAMP:20260424T205506
CREATED:20230815T185718Z
LAST-MODIFIED:20230815T185718Z
UID:805-1708560000-1708646399@schule-am-niederrhein.de
SUMMARY:Pädagogischer Tag (unterrichtsfrei)
DESCRIPTION:
URL:https://schule-am-niederrhein.de/event/paedagogischer-tag-unterrichtsfrei-2/
END:VEVENT
END:VCALENDAR