BEGIN:VCALENDAR
VERSION:2.0
PRODID:-//Schule am Niederrhein - ECPv6.15.20//NONSGML v1.0//EN
CALSCALE:GREGORIAN
METHOD:PUBLISH
X-ORIGINAL-URL:https://schule-am-niederrhein.de
X-WR-CALDESC:Veranstaltungen für Schule am Niederrhein
REFRESH-INTERVAL;VALUE=DURATION:PT1H
X-Robots-Tag:noindex
X-PUBLISHED-TTL:PT1H
BEGIN:VTIMEZONE
TZID:Europe/Berlin
BEGIN:DAYLIGHT
TZOFFSETFROM:+0100
TZOFFSETTO:+0200
TZNAME:CEST
DTSTART:20230326T010000
END:DAYLIGHT
BEGIN:STANDARD
TZOFFSETFROM:+0200
TZOFFSETTO:+0100
TZNAME:CET
DTSTART:20231029T010000
END:STANDARD
BEGIN:DAYLIGHT
TZOFFSETFROM:+0100
TZOFFSETTO:+0200
TZNAME:CEST
DTSTART:20240331T010000
END:DAYLIGHT
BEGIN:STANDARD
TZOFFSETFROM:+0200
TZOFFSETTO:+0100
TZNAME:CET
DTSTART:20241027T010000
END:STANDARD
BEGIN:DAYLIGHT
TZOFFSETFROM:+0100
TZOFFSETTO:+0200
TZNAME:CEST
DTSTART:20250330T010000
END:DAYLIGHT
BEGIN:STANDARD
TZOFFSETFROM:+0200
TZOFFSETTO:+0100
TZNAME:CET
DTSTART:20251026T010000
END:STANDARD
END:VTIMEZONE
BEGIN:VEVENT
DTSTART;VALUE=DATE:20240415
DTEND;VALUE=DATE:20240504
DTSTAMP:20260424T164113
CREATED:20230815T190001Z
LAST-MODIFIED:20230815T190001Z
UID:811-1713139200-1714780799@schule-am-niederrhein.de
SUMMARY:Praktikum der Oberstufe
DESCRIPTION:
URL:https://schule-am-niederrhein.de/event/praktikum-der-oberstufe-2/
END:VEVENT
BEGIN:VEVENT
DTSTART;VALUE=DATE:20240509
DTEND;VALUE=DATE:20240510
DTSTAMP:20260424T164113
CREATED:20230815T190045Z
LAST-MODIFIED:20230815T190045Z
UID:813-1715212800-1715299199@schule-am-niederrhein.de
SUMMARY:Christi Himmelfahrt (schulfrei)
DESCRIPTION:
URL:https://schule-am-niederrhein.de/event/christi-himmelfahrt-schulfrei/
END:VEVENT
BEGIN:VEVENT
DTSTART;VALUE=DATE:20240510
DTEND;VALUE=DATE:20240511
DTSTAMP:20260424T164113
CREATED:20230815T190117Z
LAST-MODIFIED:20230815T190117Z
UID:815-1715299200-1715385599@schule-am-niederrhein.de
SUMMARY:Beweglicher Ferientag (schulfrei)
DESCRIPTION:
URL:https://schule-am-niederrhein.de/event/beweglicher-ferientag-schulfrei/
END:VEVENT
BEGIN:VEVENT
DTSTART;VALUE=DATE:20240520
DTEND;VALUE=DATE:20240522
DTSTAMP:20260424T164113
CREATED:20240412T133706Z
LAST-MODIFIED:20240412T133706Z
UID:938-1716163200-1716335999@schule-am-niederrhein.de
SUMMARY:Pfingstferien (schulfrei)
DESCRIPTION:
URL:https://schule-am-niederrhein.de/event/pfingstferien-schulfrei/
END:VEVENT
END:VCALENDAR