BEGIN:VCALENDAR
VERSION:2.0
PRODID:-//Schule am Niederrhein - ECPv6.15.20//NONSGML v1.0//EN
CALSCALE:GREGORIAN
METHOD:PUBLISH
X-ORIGINAL-URL:https://schule-am-niederrhein.de
X-WR-CALDESC:Veranstaltungen für Schule am Niederrhein
REFRESH-INTERVAL;VALUE=DURATION:PT1H
X-Robots-Tag:noindex
X-PUBLISHED-TTL:PT1H
BEGIN:VTIMEZONE
TZID:Europe/Berlin
BEGIN:DAYLIGHT
TZOFFSETFROM:+0100
TZOFFSETTO:+0200
TZNAME:CEST
DTSTART:20230326T010000
END:DAYLIGHT
BEGIN:STANDARD
TZOFFSETFROM:+0200
TZOFFSETTO:+0100
TZNAME:CET
DTSTART:20231029T010000
END:STANDARD
BEGIN:DAYLIGHT
TZOFFSETFROM:+0100
TZOFFSETTO:+0200
TZNAME:CEST
DTSTART:20240331T010000
END:DAYLIGHT
BEGIN:STANDARD
TZOFFSETFROM:+0200
TZOFFSETTO:+0100
TZNAME:CET
DTSTART:20241027T010000
END:STANDARD
BEGIN:DAYLIGHT
TZOFFSETFROM:+0100
TZOFFSETTO:+0200
TZNAME:CEST
DTSTART:20250330T010000
END:DAYLIGHT
BEGIN:STANDARD
TZOFFSETFROM:+0200
TZOFFSETTO:+0100
TZNAME:CET
DTSTART:20251026T010000
END:STANDARD
END:VTIMEZONE
BEGIN:VEVENT
DTSTART;TZID=Europe/Berlin:20240613T120000
DTEND;TZID=Europe/Berlin:20240613T180000
DTSTAMP:20260424T151737
CREATED:20240412T133821Z
LAST-MODIFIED:20240412T134143Z
UID:940-1718280000-1718301600@schule-am-niederrhein.de
SUMMARY:Zeugniskonferenz (Unterricht endet um 12 Uhr)
DESCRIPTION:Die OGS findet statt.
URL:https://schule-am-niederrhein.de/event/fronleichnam-schulfrei/
END:VEVENT
BEGIN:VEVENT
DTSTART;TZID=Europe/Berlin:20240614T150000
DTEND;TZID=Europe/Berlin:20240614T170000
DTSTAMP:20260424T151737
CREATED:20240412T134119Z
LAST-MODIFIED:20240612T180811Z
UID:944-1718377200-1718384400@schule-am-niederrhein.de
SUMMARY:Fällt aus: Sommerfest
DESCRIPTION:Die OGS findet am heutigen Tag nicht statt.
URL:https://schule-am-niederrhein.de/event/sommerfest/
END:VEVENT
BEGIN:VEVENT
DTSTART;VALUE=DATE:20240624
DTEND;VALUE=DATE:20240625
DTSTAMP:20260424T151737
CREATED:20240412T134325Z
LAST-MODIFIED:20240412T134325Z
UID:947-1719187200-1719273599@schule-am-niederrhein.de
SUMMARY:Pädagogischer Tag (unterrichtsfrei)
DESCRIPTION:Bitte bei Betreuungsbedarf bis zum 17.6.2024 bei der OGS melden.
URL:https://schule-am-niederrhein.de/event/paedagogischer-tag-unterrichtsfrei-4/
END:VEVENT
BEGIN:VEVENT
DTSTART;VALUE=DATE:20240625
DTEND;VALUE=DATE:20240626
DTSTAMP:20260424T151737
CREATED:20240412T134357Z
LAST-MODIFIED:20240412T134357Z
UID:949-1719273600-1719359999@schule-am-niederrhein.de
SUMMARY:Sportfest
DESCRIPTION:
URL:https://schule-am-niederrhein.de/event/sportfest/
END:VEVENT
END:VCALENDAR